BEGIN:VCALENDAR
VERSION:2.0
PRODID:-//Volt Europa//Events//EN
CALSCALE:GREGORIAN
METHOD:PUBLISH
BEGIN:VEVENT
UID:sociale-kerstmarkt-2024-1734789600@voltbelgium.org
DTSTAMP:20260423T134423Z
DTSTART;TZID=Europe/Amsterdam:20241221T150000
DTEND;TZID=Europe/Amsterdam:20241221T203000
SUMMARY:Sociale Kerstmarkt 2024
DESCRIPTION:Een herinnering: vandaag op zaterdag 21/12 is er de sociale ker
 stmarkt in Tervuren met animatie voor kinderen en er worden ook kerstliedje
 s gezongen door ons koor\, waar onze gemeenteraadslid Tracey D'Afters deel 
 van uit maakt. Kom langs voor de gezelligheid. Sociale Kerstmarkt 2024 Mark
 tplein Tervuren Zaterdag 21 december 15:00 - 20:30 Meer info:  https://face
 book.com/events/s/sociale-kerstmarkt-2024/269384779589884/
LOCATION:Marktplein Tervuren
URL:https://voltbelgie.org/tervuren/agenda/sociale-kerstmarkt-2024
END:VEVENT
END:VCALENDAR
