BEGIN:VCALENDAR
VERSION:2.0
PRODID:-//Volt Europa//Events//EN
CALSCALE:GREGORIAN
METHOD:PUBLISH
BEGIN:VEVENT
UID:not-all-quiet-on-the-eastern-front-europe-unites-against-bullies-hybrid
 -world-war-1740396600@voltbelgium.org
DTSTAMP:20260423T110406Z
DTSTART;TZID=Europe/Amsterdam:20250224T123000
DTEND;TZID=Europe/Amsterdam:20250224T140000
SUMMARY:"Not all quiet on the Eastern front" - Europe Unites against bullie
 s & Hybrid World War
DESCRIPTION:It's been three years since Putin's Russian troops massively in
 vaded Ukraine\, bringing total war back to Europe after 80 years.  Alliance
 4Europe \,  Volt Belgium \,  PromoteUkraine  and  GRASPE   invite you to de
 monstrate on “our” Place Lux \, to show that civil servants in the EU i
 nstitutions — originally also created to maintain peace in our continent 
 — together with many Belgian residents\, will  stand by citizens of the m
 ilitarily aggressed neighbours of Russia  — until all unwanted soldiers a
 re
LOCATION:Place du Luxembourg\, 1050 Elsene
URL:https://voltbelgium.org/events/not-all-quiet-on-the-eastern-front-europ
 e-unites-against-bullies-hybrid-world-war
END:VEVENT
END:VCALENDAR
