BEGIN:VCALENDAR
VERSION:2.0
PRODID:-//Volt Europa//Events//EN
CALSCALE:GREGORIAN
METHOD:PUBLISH
BEGIN:VEVENT
UID:volt-new-year-reception-2026-1768586400@voltbelgium.org
DTSTAMP:20260423T134018Z
DTSTART;TZID=Europe/Amsterdam:20260116T190000
DTEND;TZID=Europe/Amsterdam:20260116T223000
SUMMARY:Volt New Year reception 2026
DESCRIPTION:After the very successful edition of last year’s New Year Rec
 eption in Ghent\, the board of Volt Belgium is excited to invite you to the
  Volt Belgium National New Year Reception 2026 — this time in Mechelen\, 
 just a short walk from the train station! Join us on Friday\, January 16th 
 for an inspiring evening full of opportunities to connect with members from
  across the country\, share ideas\, celebrate our achievements\, and kick o
 ff 2026 together with fresh energy and optimism.
LOCATION:Via Via\, Zandpoortvest 50\, 2800 Mechelen
URL:https://voltbelgium.org/leuven/events/volt-new-year-reception-2026
END:VEVENT
END:VCALENDAR
