BEGIN:VCALENDAR
VERSION:2.0
PRODID:-//Volt Europa//Events//EN
CALSCALE:GREGORIAN
METHOD:PUBLISH
BEGIN:VEVENT
UID:verkiezingsdebat-wilsele-dorp-1725904800@voltbelgium.org
DTSTAMP:20260421T142609Z
DTSTART;TZID=Europe/Amsterdam:20240909T200000
DTEND;TZID=Europe/Amsterdam:20240909T230000
SUMMARY:Verkiezingsdebat Wilsele Dorp
DESCRIPTION:In het kader van de gemeenteraadsverkiezingen organiseert vzw 3
 012WD (het onafhankelijke bewonersplatform in Wilsele Dorp) voor de vierde 
 maal een debat tussen de Leuvense politieke partijen\, toegespitst op thema
 's die leven in Wilsele-Dorp.  Het debat zal plaatsvinden op  maandag 9 se
 ptember 2024\, om 20u  in zaal Pacem in Wilsele-Dorp.  Wim De Vilder  za
 l het modereren.  Voor Volt neemt Ibe Comhaire\, lijsttrekker voor de Leuve
 nse gemeenteraad deel. Kom allemaal af om hem aan te moedigen en Volt
LOCATION:Zaal Pacem\, Hagelandstraat 4\, Wilsele
URL:https://voltbelgie.org/leuven/agenda/verkiezingsdebat-wilsele-dorp
END:VEVENT
END:VCALENDAR
