BEGIN:VCALENDAR
VERSION:2.0
PRODID:-//Volt Europa//Events//EN
CALSCALE:GREGORIAN
METHOD:PUBLISH
BEGIN:VEVENT
UID:national-new-years-reception-of-volt-belgium-1768586400@voltbelgium.org
DTSTAMP:20260423T162346Z
DTSTART;TZID=Europe/Amsterdam:20260116T190000
DTEND;TZID=Europe/Amsterdam:20260116T223000
SUMMARY:National New-Year's Reception of Volt Belgium
DESCRIPTION:âœ¨Â After the very successful edition of last yearâ€™s New Yea
 r Reception in Ghent\, the board of Volt Belgium is excited to invite you t
 o theÂ  Volt Belgium's National New-Year's Reception 2026 Â â€” this time i
 nÂ  Mechelen \, just a short walk from the train station!Â ðŸš† Join us onÂ
   Friday\, 16 January Â for an inspiring evening full of opportunities toÂ 
  connect with members from across the country \, share ideas\, celebrate ou
 r achievements\, and kick off 2026 together with fresh energy and optimism.
 Â ðŸ’œ
LOCATION:ReiscafÃ© "Via Via" of Mechelen (separate room)\, Zandpoortvest 50
 \,2800 Mechelen
URL:https://voltbelgium.org/events/national-new-years-reception-of-volt-bel
 gium
END:VEVENT
END:VCALENDAR
