BEGIN:VCALENDAR
VERSION:2.0
PRODID:-//Volt Europa//Events//EN
CALSCALE:GREGORIAN
METHOD:PUBLISH
BEGIN:VEVENT
UID:munincipal-elections-1728824400@voltbelgium.org
DTSTAMP:20260421T235711Z
DTSTART;TZID=Europe/Amsterdam:20241013T150000
DTEND;TZID=Europe/Amsterdam:20241013T230000
SUMMARY:Munincipal elections!
DESCRIPTION:The time has come! The big day! Go vote and then reward yoursel
 f for contributing to democracy.
LOCATION:Leuven
URL:https://voltbelgium.org/leuven/events/munincipal-elections
END:VEVENT
END:VCALENDAR
