BEGIN:VCALENDAR
VERSION:2.0
PRODID:-//Volt Europa//Events//EN
CALSCALE:GREGORIAN
METHOD:PUBLISH
BEGIN:VEVENT
UID:monthly-meeting-of-volt-leuven-1751477400@voltbelgium.org
DTSTAMP:20260423T135454Z
DTSTART;TZID=Europe/Amsterdam:20250702T193000
DTEND;TZID=Europe/Amsterdam:20250702T220000
SUMMARY:Monthly meeting of Volt Leuven
DESCRIPTION:Would you like to contribute ideas and help out with our local 
 activities? Then you’re very welcome at our monthly meeting! We bring tog
 ether the core team of Volt Leuven\, discuss ongoing projects\, make plans 
 for the coming period\, and are open to new ideas. We're also looking for n
 ew people who want to help support our work. Just drop by. We’d love to h
 ave you there!
LOCATION:Café Tempo\, Baron August de Becker Remyplein\, 52 in 3010 Kessel
 -Lo (Leuven)
URL:https://voltbelgium.org/leuven/events/monthly-meeting-of-volt-leuven
END:VEVENT
END:VCALENDAR
