BEGIN:VCALENDAR
VERSION:2.0
PRODID:-//Volt Europa//Events//EN
CALSCALE:GREGORIAN
METHOD:PUBLISH
BEGIN:VEVENT
UID:meeting-1-28-25-1738089000@voltbelgium.org
DTSTAMP:20260423T104755Z
DTSTART;TZID=Europe/Amsterdam:20250128T193000
DTEND;TZID=Europe/Amsterdam:20250128T220000
SUMMARY:Meeting
DESCRIPTION:In the coming months\, our meetings will take place on the Tues
 day after the city council meeting.  And that is no coincidence! We will pa
 y close attention to these meetings and discuss the most interesting events
 . Are you part of a neighborhood\, district or interest group meeting and w
 ould like to talk about it? Please let us know in advance and we can also d
 iscuss this.  Would you like to know how a Volt meeting works before you wa
 nt to participate in person? Next meeting\, January 28\, we will t
LOCATION:Cafe Tempo - Baron August de Becker Remyplein 52 Leuven
URL:https://voltbelgium.org/leuven/events/meeting-1-28-25
END:VEVENT
END:VCALENDAR
