BEGIN:VCALENDAR
VERSION:2.0
PRODID:-//Volt Europa//Events//EN
CALSCALE:GREGORIAN
METHOD:PUBLISH
BEGIN:VEVENT
UID:meet-our-city-leads-1734462000@voltbelgium.org
DTSTAMP:20260423T135634Z
DTSTART;TZID=Europe/Amsterdam:20241217T200000
DTEND;TZID=Europe/Amsterdam:20241217T220000
SUMMARY:Meet our City Leads
DESCRIPTION:Ulrike and Niek were elected on wednesday evening as city co-le
 ads for Leuven/Flemish Brabant.  They would like to invite you to get to kn
 ow them in a fun way.  Where: Leuven Christmas Market\, Ladeuzeplein  When:
  Tuesday\, December 17\, 8 p.m  Feel free to put on a pullover made of volt
 s or something purple. 💜 Hopefully we'll see you on Tuesday!
LOCATION:Leuven Christmas market\, Ladeuzeplein
URL:https://voltbelgium.org/leuven/events/meet-our-city-leads
END:VEVENT
END:VCALENDAR
