BEGIN:VCALENDAR
VERSION:2.0
PRODID:-//Volt Europa//Events//EN
CALSCALE:GREGORIAN
METHOD:PUBLISH
BEGIN:VEVENT
UID:meet-greet-volt-leuven-1750442400@voltbelgium.org
DTSTAMP:20260423T161851Z
DTSTART;TZID=Europe/Amsterdam:20250620T200000
DTEND;TZID=Europe/Amsterdam:20250620T220000
SUMMARY:Meet & greet Volt Leuven
DESCRIPTION:On Friday\, June 20\, 2025\, Volt invites you to a meet and gre
 et at Café Tempo. We'll discuss interesting topics\, make plans for the pe
 riod after the summer break\, and will gladly answer your questions. Whethe
 r you're a seasoned Volter looking for good company\, or an engaged citizen
  with a healthy dose of curiosity – you’re very welcome! Join us on Fri
 day\, June 20\, 2025 at 8:00 PM at Café Tempo\, Baron August de Becker Rem
 yplein 52\, Kessel-Lo. We look forward to seeing you there!
LOCATION:Café Tempo\, Baron August de Becker Remyplein 52\, Kessel-Lo.
URL:https://voltbelgium.org/leuven/events/meet-greet-volt-leuven
END:VEVENT
END:VCALENDAR
