BEGIN:VCALENDAR
VERSION:2.0
PRODID:-//Volt Europa//Events//EN
CALSCALE:GREGORIAN
METHOD:PUBLISH
BEGIN:VEVENT
UID:meet-greet-in-leuven-1762367400@voltbelgium.org
DTSTAMP:20260423T134320Z
DTSTART;TZID=Europe/Amsterdam:20251105T193000
DTEND;TZID=Europe/Amsterdam:20251105T210000
SUMMARY:Meet & Greet in Leuven
DESCRIPTION:Curious about Volt or eager to help build a future-oriented pol
 itics in Leuven? Come meet our team during our Meet & Greet! Whether you're
  just curious or ready to get involved — you're very welcome! See you the
 n!
LOCATION:Baron August de Becker Remyplein 52\, 3010 Kessel-Lo
URL:https://voltbelgium.org/leuven/events/meet-greet-in-leuven
END:VEVENT
END:VCALENDAR
