BEGIN:VCALENDAR
VERSION:2.0
PRODID:-//Volt Europa//Events//EN
CALSCALE:GREGORIAN
METHOD:PUBLISH
BEGIN:VEVENT
UID:meet-greet-avec-volt-belgique-a-lln-fr-1759770000@voltbelgium.org
DTSTAMP:20260423T110715Z
DTSTART;TZID=Europe/Amsterdam:20251006T190000
DTEND;TZID=Europe/Amsterdam:20251006T213000
SUMMARY:Meet & Greet avec Volt Belgique à LLN [FR]
DESCRIPTION:🇪🇺 L’Europe traverse une période de turbulences inédi
 tes : guerre en Ukraine\, pressions commerciales exercées par Donald Trump
 \, dérèglement climatique\, crise migratoire\, délocalisation des indust
 ries manufacturières\, aggravation de la pauvreté et des inégalités tan
 dis que certaines grandes entreprises continuent d’échapper à l’impô
 t. 🇪🇺 Ces crises ne s’arrêtent pas aux frontières. En tant que ci
 toyennes et citoyens issus de toute l’Europe\, nous avons ressenti la né
 cessité de faire face à ces déf
LOCATION:Brasserie Le Grand Place\, Grand-Place 15\, 1348 Ottignies-Louvain
 -la-Neuve
URL:https://voltbelgique.org/bruxelles/evenements/meet-greet-avec-volt-belg
 ique-a-lln-fr
END:VEVENT
END:VCALENDAR
