BEGIN:VCALENDAR
VERSION:2.0
PRODID:-//Volt Europa//Events//EN
CALSCALE:GREGORIAN
METHOD:PUBLISH
BEGIN:VEVENT
UID:meet-and-greet-volt-leuven-maart-nl-1772649000@voltbelgium.org
DTSTAMP:20260425T151120Z
DTSTART;TZID=Europe/Amsterdam:20260304T193000
DTEND;TZID=Europe/Amsterdam:20260304T210000
SUMMARY:Meet and Greet Volt Leuven (maart) [NL]
DESCRIPTION:Volt Leuven nodigt leden en geïnteresseerden uit voor onze maa
 ndelijkse Meet & Greet. Kom langs voor een open en informele babbel over po
 litiek op lokaal\, nationaal en Europees niveau. Het is een fijne gelegenhe
 id om ideeën uit te wisselen\, te praten over wat leeft in Leuven en elkaa
 r beter te leren kennen. Iedereen is welkom — of je nu al actief bent bin
 nen Volt of gewoon nieuwsgierig bent. We kijken ernaar uit je te ontmoeten!
LOCATION:Cafe Tempo - Baron August de Becker Remyplein 52 Leuven
URL:https://voltbelgium.org/leuven/events/meet-and-greet-volt-leuven-maart-
 nl
END:VEVENT
END:VCALENDAR
