BEGIN:VCALENDAR
VERSION:2.0
PRODID:-//Volt Europa//Events//EN
CALSCALE:GREGORIAN
METHOD:PUBLISH
BEGIN:VEVENT
UID:deadline-to-register-for-the-local-elections-as-a-non-belgian-citizen-1
 722405600@voltbelgium.org
DTSTAMP:20260423T135627Z
DTSTART;TZID=Europe/Amsterdam:20240731T080000
DTEND;TZID=Europe/Amsterdam:20240731T230000
SUMMARY:Deadline to register for the local elections as a non-Belgian citiz
 en
DESCRIPTION:Resident of Leuven with a non-Belgian nationality? This is the 
 last day to register as a voter for local elections. Don't miss this opport
 unity.
LOCATION:Leuven
URL:https://voltbelgium.org/leuven/events/deadline-to-register-for-the-loca
 l-elections-as-a-non-belgian-citizen
END:VEVENT
END:VCALENDAR
