BEGIN:VCALENDAR
VERSION:2.0
PRODID:-//Volt Europa//Events//EN
CALSCALE:GREGORIAN
METHOD:PUBLISH
BEGIN:VEVENT
UID:2025-general-assembly-volt-europa-1763798400@voltbelgium.org
DTSTAMP:20260423T105020Z
DTSTART;TZID=Europe/Amsterdam:20251122T090000
DTEND;TZID=Europe/Amsterdam:20251123T180000
SUMMARY:2025 General Assembly - Volt Europa
DESCRIPTION:Op 22 en 23 november 2025 komen Volt-leden en sympathisanten ui
 t heel Europa samen in Frankfurt-am-Mein. voor de  General Assembly van Vol
 t Europa  (het Europese partijcongres van Volt Europa). Meer informatie:  F
 rankfurt 2025 General Assembly
LOCATION:KAP Europa\; Osloer Strasse 5\, Messe Frankfurt\, Frankfurt-am-Mai
 n 60327\, Germany
URL:https://voltbelgie.org/leuven/agenda/2025-general-assembly-volt-europa
END:VEVENT
END:VCALENDAR
