BEGIN:VCALENDAR
VERSION:2.0
PRODID:-//Volt Europa//Events//EN
CALSCALE:GREGORIAN
METHOD:PUBLISH
BEGIN:VEVENT
UID:women-march-brussels-1709906400@voltbelgium.org
DTSTAMP:20260423T133956Z
DTSTART;TZID=Europe/Amsterdam:20240308T150000
DTEND;TZID=Europe/Amsterdam:20240308T170000
SUMMARY:Women's March Brussels
DESCRIPTION:Do not miss the march with the occasion of the International Da
 y for Women’s Rights.  Join Volt to demonstrate your support to gender eq
 uality\, refusal of any short of discrimination based on sexual identity\, 
 and solidarity with women‘s rights activists. Feel free to boost the atmo
 sphere by dressing up in purple and bringing your Volt and/or LGBTQ+ flags!
  Do not forget for ID.
LOCATION:Gathering at Central Station\, Place de l’Albertine/ Albertinapl
 ein
URL:https://voltbelgium.org/events/women-march-brussels
END:VEVENT
END:VCALENDAR
