BEGIN:VCALENDAR
VERSION:2.0
PRODID:-//Volt Europa//Events//EN
CALSCALE:GREGORIAN
METHOD:PUBLISH
BEGIN:VEVENT
UID:wie-let-er-op-brussel-en-1715103000@voltbelgium.org
DTSTAMP:20260423T194834Z
DTSTART;TZID=Europe/Amsterdam:20240507T193000
DTEND;TZID=Europe/Amsterdam:20240507T210000
SUMMARY:Wie let er op Brussel?
DESCRIPTION:The European Parliament must control power\, but has regularly 
 been under fire due to scandals in recent years. Is there too little superv
 ision of European politicians and civil servants? We will discuss this in r
 esponse to Who pays attention to Brussels?\, the new book by the Brussels e
 ditors of the Follow The Money journalism platform. The discussion will cou
 nt with the participation of  Simon Van Dorpe  (investigative journalist FT
 M\, Bureau Brussels)\,  Bram Vranken  (researcher and campaigner a
LOCATION:deBuren\, Rue Leopold 6\, Brussels
URL:https://voltbelgium.org/events/wie-let-er-op-brussel-en
END:VEVENT
END:VCALENDAR
