BEGIN:VCALENDAR
VERSION:2.0
PRODID:-//Volt Europa//Events//EN
CALSCALE:GREGORIAN
METHOD:PUBLISH
BEGIN:VEVENT
UID:volt-leuven-meet-and-greet-en-1720630800@voltbelgium.org
DTSTAMP:20260423T104847Z
DTSTART;TZID=Europe/Amsterdam:20240710T190000
DTEND;TZID=Europe/Amsterdam:20240710T223000
SUMMARY:Volt Leuven meet and greet
DESCRIPTION:The Volt Leuven team will meet on Wednesday evening 07-10-2024 
 at 7:00 PM to discuss the upcoming elections. Would you like to be there to
 o? Do you have questions for Volt Leuven? Do you have  the  plan to make Le
 uven an even better municipality? Just fancy a drink and a chat? Feel free 
 to come by and meet the candidates for the local elections.
LOCATION:Cafe Tempo - Baron August de Becker Remyplein 52 Leuven
URL:https://voltbelgium.org/events/volt-leuven-meet-and-greet-en
END:VEVENT
END:VCALENDAR
