BEGIN:VCALENDAR
VERSION:2.0
PRODID:-//Volt Europa//Events//EN
CALSCALE:GREGORIAN
METHOD:PUBLISH
BEGIN:VEVENT
UID:volt-antwerpen-meet-greet-with-our-lead-candidates-1717174800@voltbelgi
 um.org
DTSTAMP:20260423T162102Z
DTSTART;TZID=Europe/Amsterdam:20240531T190000
DTEND;TZID=Europe/Amsterdam:20240531T213000
SUMMARY:Volt Antwerpen Meet & Greet with our lead candidates
DESCRIPTION:During this meet & greet we will get to know the lead candidate
 s for the Federal Parlament\, Jasper Coosemans\, and the Flemish Parlament\
 , Jeroen Van Loock. Jasper and Jeroen will explain their motivation to run 
 for Volt and their proposals for Antwerpen. Please bring your enthusiasm an
 d questions for our candidates. The session will be hold in Dutch. If you u
 nderstand Dutch but you only feel comfortable speaking English or French\, 
 we still encourage you to join the session. 
LOCATION:Peperfabriek - Breughelstraat 31\, 2018 Antwerpen
URL:https://voltbelgium.org/events/volt-antwerpen-meet-greet-with-our-lead-
 candidates
END:VEVENT
END:VCALENDAR
