BEGIN:VCALENDAR
VERSION:2.0
PRODID:-//Volt Europa//Events//EN
CALSCALE:GREGORIAN
METHOD:PUBLISH
BEGIN:VEVENT
UID:volt-antwerpen-long-term-strategy-1727528400@voltbelgium.org
DTSTAMP:20260423T172349Z
DTSTART;TZID=Europe/Amsterdam:20240928T150000
DTEND;TZID=Europe/Amsterdam:20240928T190000
SUMMARY:Volt Antwerpen - Long term strategy
DESCRIPTION:While the campaign for the local elections is in full swing\, w
 e would like to invite you to a strategic session to discuss and establish 
 the  long-term direction of Volt Antwerp . During this session\, we will jo
 intly determine the future course and translate it into  concrete goals and
  milestones  for the medium and short term. Volt stands for  citizen partic
 ipation . With this initiative\, we aim to embody the principles of partici
 patory democracy. This is your chance to make your voice heard an
LOCATION:De Peperfabriek - Breughelstraat 31\, 2018 Antwerpen
URL:https://voltbelgium.org/events/volt-antwerpen-long-term-strategy
END:VEVENT
END:VCALENDAR
