BEGIN:VCALENDAR
VERSION:2.0
PRODID:-//Volt Europa//Events//EN
CALSCALE:GREGORIAN
METHOD:PUBLISH
BEGIN:VEVENT
UID:save-the-date-vrouwen-in-de-politiek-panelgesprek-nl-1733337000@voltbel
 gium.org
DTSTAMP:20260425T121159Z
DTSTART;TZID=Europe/Amsterdam:20241204T193000
DTEND;TZID=Europe/Amsterdam:20241204T213000
SUMMARY:Vrouwen in de politiek: panelgesprek [NL]
DESCRIPTION:Volt\, een pan-Europese politieke partij\, hecht veel belang aa
 n diversiteit en streeft naar een evenwichtige verdeling van functies tusse
 n vrouwen en mannen. Partijen ondervinden steeds meer problemen bij het wer
 ven van vrouwelijke kandidaten. De maatregelen die tot nu toe zijn genomen 
 om deze balans te waarborgen\, blijken onvoldoende effectief. Daarom willen
  we bij Volt leren wat wél kan helpen. Ons doel is om een aantal vrouwen b
 ij elkaar te brengen – zowel ervaren politica's als jonge kandidat
LOCATION:Zebrastraat 32\, 9000 Gent
URL:https://voltbelgium.org/events/save-the-date-vrouwen-in-de-politiek-pan
 elgesprek-nl
END:VEVENT
END:VCALENDAR
