BEGIN:VCALENDAR
VERSION:2.0
PRODID:-//Volt Europa//Events//EN
CALSCALE:GREGORIAN
METHOD:PUBLISH
BEGIN:VEVENT
UID:political-cafe-migration-1712770200@voltbelgium.org
DTSTAMP:20260423T133659Z
DTSTART;TZID=Europe/Amsterdam:20240410T193000
DTEND;TZID=Europe/Amsterdam:20240410T213000
SUMMARY:Political Café - Migration
DESCRIPTION:Migration has been a subject of vivid political discussions for
  a long time\, with special political repercussions recenly. Humans have ro
 amed the planet for as long as we have existed. Frequently\, migrations hav
 e been motivated by the lack of food (famines)\, natural disasters\, confli
 cts or simply in the search of opportunities for a better life. Looking at 
 our history and the magnitude of the phenomena\, we can easily conclude tha
 t migrations will continue to exist in the future\, and that it is i
LOCATION:Café Tempo - Baron August de Becker Remyplein 52\, 3010 Leuven
URL:https://voltbelgium.org/events/political-cafe-migration
END:VEVENT
END:VCALENDAR
