BEGIN:VCALENDAR
VERSION:2.0
PRODID:-//Volt Europa//Events//EN
CALSCALE:GREGORIAN
METHOD:PUBLISH
BEGIN:VEVENT
UID:political-cafe-leuven-in-cafe-tempo-19-march-1710873000@voltbelgium.org
DTSTAMP:20260423T135046Z
DTSTART;TZID=Europe/Amsterdam:20240319T193000
DTEND;TZID=Europe/Amsterdam:20240319T220000
SUMMARY:Political Café Leuven: What prevents women to join politics?
DESCRIPTION:Women's rights are essential to properly discuss about social j
 ustice. We invite you to an open discussion on what prevents women to join 
 politics\, and discover how Volt includes a women dimension into its policy
  proposals.  Come and share your views and innovative ideas in a warm atmos
 phere in Café Tempo (upstairs).  Do not forget to bring your family and fr
 iends. Everyone is welcome! Language: Dutch
LOCATION:Café Tempo - Baron August de Becker Remyplein 52\, 3010 Leuven
URL:https://voltbelgium.org/events/political-cafe-leuven-in-cafe-tempo-19-m
 arch
END:VEVENT
END:VCALENDAR
