BEGIN:VCALENDAR
VERSION:2.0
PRODID:-//Volt Europa//Events//EN
CALSCALE:GREGORIAN
METHOD:PUBLISH
BEGIN:VEVENT
UID:paarse-golf-mechelen-1717434000@voltbelgium.org
DTSTAMP:20260423T133811Z
DTSTART;TZID=Europe/Amsterdam:20240603T190000
DTEND;TZID=Europe/Amsterdam:20240603T223000
SUMMARY:Paarse Golf Mechelen
DESCRIPTION:GRATIS TICKETS - reserveer snel je plaatsje om erbij te zijn\, 
 de interesse is groot 💜🌊💜🌊 Kom maandag 3 juni naar een van onze
  slotevenementen naar aanloop van de verkiezingen Maar liefst 6 Europese ka
 ndidaten inclusief co-lijsttrekkers @sophie.intveld @bramv_science_volt\, p
 rovincie Antwerpen lijsttrekkers regionaal en federaal @jeroenvanloock.volt
  en @jasper.coosemans en Europese kandidaten @lucasthijs00 (#4) \, @_ibske_
  (#10)\, @_rebeccabayer en @otenhorn (#3) zullen aanwezig zijn 💜🌊⚡ 
 We beginnen
LOCATION:ViaVia Joker Reiscafé Mechelen
URL:https://voltbelgium.org/events/paarse-golf-mechelen
END:VEVENT
END:VCALENDAR
