BEGIN:VCALENDAR
VERSION:2.0
PRODID:-//Volt Europa//Events//EN
CALSCALE:GREGORIAN
METHOD:PUBLISH
BEGIN:VEVENT
UID:new-years-reception-2025-1735916400@voltbelgium.org
DTSTAMP:20260422T075805Z
DTSTART;TZID=Europe/Amsterdam:20250103T160000
DTEND;TZID=Europe/Amsterdam:20250104T020000
SUMMARY:New Year's Reception 2025
DESCRIPTION:2024 was an eventful and busy year for all of us. We participat
 ed in five elections with dozens of lists and hundreds of candidates. For a
 lmost an entire year we collected signatures and campaigned. We conquered t
 he cold and the rain\, talked to many people\, and convinced a fair share t
 o sign or vote for us. To celebrate the end of this beautiful election year
 \, we are organising a New Year’s reception in Ghent. We are happy to inv
 ite you on 3 January 2025. Everybody is welcome: members\, friends\, 
LOCATION:Afkikker\, Sint-Kwintensberg 52\, 9000 Ghent
URL:https://voltbelgium.org/events/new-years-reception-2025
END:VEVENT
END:VCALENDAR
