BEGIN:VCALENDAR
VERSION:2.0
PRODID:-//Volt Europa//Events//EN
CALSCALE:GREGORIAN
METHOD:PUBLISH
BEGIN:VEVENT
UID:meet-greet-volt-leuven-nl-1750442400@voltbelgium.org
DTSTAMP:20260423T104323Z
DTSTART;TZID=Europe/Amsterdam:20250620T200000
DTEND;TZID=Europe/Amsterdam:20250620T220000
SUMMARY:Meet & greet Volt Leuven [NL]
DESCRIPTION:Op vrijdag 20/06/2025 nodigt Volt je uit voor een meet and gree
 t in Cafe Tempo.  We bespreken interessante onderwerpen\, maken plannen voo
 r de periode na het groot verlof en beantwoorden graag jullie vragen. Of je
  nu een doorgewinterde Volter bent die zin heeft in goed gezelschap\, of ee
 n betrokken burger met een gezonde dosis nieuwsgierigheid – je bent van h
 arte welkom! Afspraak op vrijdag 20 juni 2025 om 20:00 in Café Tempo\, Bar
 on August de Becker Remyplein 52\, Kessel-Lo. We kijken ernaar uit je
LOCATION:Café Tempo\, Baron August de Becker Remyplein 52\, Kessel-Lo.
URL:https://voltbelgium.org/events/meet-greet-volt-leuven-nl
END:VEVENT
END:VCALENDAR
