BEGIN:VCALENDAR
VERSION:2.0
PRODID:-//Volt Europa//Events//EN
CALSCALE:GREGORIAN
METHOD:PUBLISH
BEGIN:VEVENT
UID:meet-greet-roeselare-nl-1782320400@voltbelgium.org
DTSTAMP:20260422T045935Z
DTSTART;TZID=Europe/Amsterdam:20260624T190000
DTEND;TZID=Europe/Amsterdam:20260624T220000
SUMMARY:Meet & Greet Roeselare [NL]
DESCRIPTION:Waar Roeselare Uur 19u-22u Toegang Gratis Derde halte: We strij
 ken neer in het hart van de provincie! 📍 Na onze geslaagde stops in Brug
 ge en Ieper\, trekken we nu naar het centrum van West-Vlaanderen. We breide
 n onze paarse golf verder uit en willen ook hier horen wat er leeft! Wil je
  lokaal een verschil maken met Volt en mee nadenken over het beleid? Of wil
  je eerst meer ontdekken over Volt Europa of Volt België? Dit is jouw kans
  om kennis te maken! Kom gezellig kennismaken met de leden van Volt
LOCATION:Roeselare
URL:https://voltbelgique.org/evenements/meet-greet-roeselare-nl
END:VEVENT
END:VCALENDAR
