BEGIN:VCALENDAR
VERSION:2.0
PRODID:-//Volt Europa//Events//EN
CALSCALE:GREGORIAN
METHOD:PUBLISH
BEGIN:VEVENT
UID:meet-greet-mechelen-nl-1761067800@voltbelgium.org
DTSTAMP:20260423T133944Z
DTSTART;TZID=Europe/Amsterdam:20251021T193000
DTEND;TZID=Europe/Amsterdam:20251021T220000
SUMMARY:Meet & Greet Mechelen [NL]
DESCRIPTION:Waar Kafee Zapoi\, een kleine 10 minuutjes wandelen van het cen
 traal station in Mechelen.  Uur 19u30-22u00 Toegang Gratis:  iedereen is we
 lkom Ideale eerste introductie Wil je in Mechelen een verschil maken met Vo
 lt en mee nadenken over het beleid? Of wil je eerst Volt Europa of Volt Bel
 gië leren kennen? Kom dan gezellig kennismaken met de leden van Volt in Me
 chelen! Je hoeft ook niet in Mechelen te wonen om deel te nemen\, iedereen 
 is welkom!  Drink samen met ons een pintje of een limonade en ont
LOCATION:Kafee Zapoi\, Onze-Lieve-vrouwestraat 117\, 2800 Mechelen
URL:https://voltbelgium.org/events/meet-greet-mechelen-nl
END:VEVENT
END:VCALENDAR
