BEGIN:VCALENDAR
VERSION:2.0
PRODID:-//Volt Europa//Events//EN
CALSCALE:GREGORIAN
METHOD:PUBLISH
BEGIN:VEVENT
UID:meet-greet-in-cafe-des-arts-1710873000@voltbelgium.org
DTSTAMP:20260423T104031Z
DTSTART;TZID=Europe/Amsterdam:20240319T193000
DTEND;TZID=Europe/Amsterdam:20240319T220000
SUMMARY:Meet & Greet in Antwerpen (Cafe des Arts)
DESCRIPTION:Join us in this Meet & Greet to meet Volt's active members and 
 supporters\, and kickstart Eduardo and Pauline as city leads. Do not miss t
 he chance to share your views and ideas to feed their political priorities 
 and Volt's campaign.
LOCATION:Boomgaardstraat 350\, 2600 Antwerpen
URL:https://voltbelgium.org/events/meet-greet-in-cafe-des-arts
END:VEVENT
END:VCALENDAR
