BEGIN:VCALENDAR
VERSION:2.0
PRODID:-//Volt Europa//Events//EN
CALSCALE:GREGORIAN
METHOD:PUBLISH
BEGIN:VEVENT
UID:meet-greet-brussels-volt-bxl-2026-en-1770141600@voltbelgium.org
DTSTAMP:20260423T072930Z
DTSTART;TZID=Europe/Amsterdam:20260203T190000
DTEND;TZID=Europe/Amsterdam:20260203T220000
SUMMARY:Meet & Greet Brussels – Volt BXL 2026
DESCRIPTION:Where 1st floor of  Café Merlo\, Baksteenkaai 80\, 1000 Brusse
 ls Time 19u-22u Admission Free:  everyone is welcome Ideal first introducti
 on Would you like to make a difference in Brussels with Volt and help shape
  future policies? Or would you first like to get to know Volt Europe or Vol
 t Belgium? Join us for a relaxed meet & greet with members of Volt Brussels
  and beyond! Enjoy a beer or a lemonade together and share your ideas about
  Volt and politics in 2026. Arriving later? No problem\, you’re we
LOCATION:1st floor of Café Merlo\, Baksteenkaai 80\, 1000 Brussels
URL:https://voltbelgium.org/brussels/events/meet-greet-brussels-volt-bxl-20
 26-en
END:VEVENT
END:VCALENDAR
