BEGIN:VCALENDAR
VERSION:2.0
PRODID:-//Volt Europa//Events//EN
CALSCALE:GREGORIAN
METHOD:PUBLISH
BEGIN:VEVENT
UID:meet-greet-brussels-in-cafe-merlo-1709659800@voltbelgium.org
DTSTAMP:20260423T161934Z
DTSTART;TZID=Europe/Amsterdam:20240305T183000
DTEND;TZID=Europe/Amsterdam:20240305T210000
SUMMARY:Meet & Greet Brussels in Café Merlo
DESCRIPTION:(FR) Il est temps pour un autre Meet & Greet au cœur de Bruxel
 les ! À l'étage du Café Merlo\, dans le quartier convivial de Dansaert\,
  vous trouverez un lieu chaleureux. Partagez un verre et parlez politique a
 vec des Volters et présentez vos nouvelles idées démocratiques innovante
 s à nos candidats. Nous vous attendons le soir\, et n'oubliez pas d'amener
  vos amis\, collègues et famille. Tout le monde est bienvenue ! (EN) It is
  time for another Meet & Greet in the heart of Brussels! Upstairs at Café 
 M
LOCATION:Quai aux Briques 80\, Brussels 1000
URL:https://voltbelgium.org/events/meet-greet-brussels-in-cafe-merlo
END:VEVENT
END:VCALENDAR
