BEGIN:VCALENDAR
VERSION:2.0
PRODID:-//Volt Europa//Events//EN
CALSCALE:GREGORIAN
METHOD:PUBLISH
BEGIN:VEVENT
UID:meet-greet-antwerpen-1729098000@voltbelgium.org
DTSTAMP:20260423T104301Z
DTSTART;TZID=Europe/Amsterdam:20241016T190000
DTEND;TZID=Europe/Amsterdam:20241016T210000
SUMMARY:Meet & greet Antwerpen
DESCRIPTION:Het is tijd om elkaar te zien in Cafe des Arts naast Station Be
 rchem. Na de verkiezingen zullen wij samen komen om de resultaten te bespre
 ken\, samen iets te drinken\, en om onze volgende bijeenkomsten in te plann
 en. Wij hebben 5 jaar om het tij te keren en wij zullen deze tijd zeker goe
 d gebruiken 💪 Iedereen is welkom!
LOCATION:Café des Arts\, Boomgaardstraat 350\, 2600 Antwerpen
URL:https://voltbelgie.org/antwerpen/agenda/meet-greet-antwerpen
END:VEVENT
END:VCALENDAR
