BEGIN:VCALENDAR
VERSION:2.0
PRODID:-//Volt Europa//Events//EN
CALSCALE:GREGORIAN
METHOD:PUBLISH
BEGIN:VEVENT
UID:meet-greet-antwerpen-en-250225-1740508200@voltbelgium.org
DTSTAMP:20260423T134806Z
DTSTART;TZID=Europe/Amsterdam:20250225T193000
DTEND;TZID=Europe/Amsterdam:20250225T220000
SUMMARY:Meet & greet Antwerpen
DESCRIPTION:It is time to get together in Café Het Groene Hart in Groenpla
 ats. We come together to have a drink and have a friendly chat about politi
 cs at the local level. Everybody is welcome!
LOCATION:Café Het Groene Hart\, Groenplaats 23\, 2000 Antwerpen
URL:https://voltbelgium.org/events/meet-greet-antwerpen-en-250225
END:VEVENT
END:VCALENDAR
