BEGIN:VCALENDAR
VERSION:2.0
PRODID:-//Volt Europa//Events//EN
CALSCALE:GREGORIAN
METHOD:PUBLISH
BEGIN:VEVENT
UID:meet-greet-antwerpen-en-250212-1-1770834600@voltbelgium.org
DTSTAMP:20260425T151331Z
DTSTART;TZID=Europe/Amsterdam:20260211T193000
DTEND;TZID=Europe/Amsterdam:20260211T213000
SUMMARY:Meet & greet Antwerpen
DESCRIPTION:It is time to get together again. We come together to have a dr
 ink and have a friendly chat about politics at the local level. Everybody i
 s welcome!
LOCATION:Café Den Tros\, Napoleonkaai 55\,  2000 Antwerpen
URL:https://voltbelgium.org/events/meet-greet-antwerpen-en-250212-1
END:VEVENT
END:VCALENDAR
