BEGIN:VCALENDAR
VERSION:2.0
PRODID:-//Volt Europa//Events//EN
CALSCALE:GREGORIAN
METHOD:PUBLISH
BEGIN:VEVENT
UID:meet-greet-antwerpen-en-250129-1738175400@voltbelgium.org
DTSTAMP:20260423T105027Z
DTSTART;TZID=Europe/Amsterdam:20250129T193000
DTEND;TZID=Europe/Amsterdam:20250129T220000
SUMMARY:Meet & greet Antwerpen
DESCRIPTION:It is time to get together in Café Den Tros in 't Eilandje. We
  come together to have a drink and have a friendly chat about politics at t
 he local level. Everybody is welcome!
LOCATION:Den Tros Café\, Napoleonkaai 55\, 2000 Antwerpen
URL:https://voltbelgium.org/events/meet-greet-antwerpen-en-250129
END:VEVENT
END:VCALENDAR
