BEGIN:VCALENDAR
VERSION:2.0
PRODID:-//Volt Europa//Events//EN
CALSCALE:GREGORIAN
METHOD:PUBLISH
BEGIN:VEVENT
UID:local-new-years-reception-ghent-2026-1767376800@voltbelgium.org
DTSTAMP:20260423T060905Z
DTSTART;TZID=Europe/Amsterdam:20260102T190000
DTEND;TZID=Europe/Amsterdam:20260102T235900
SUMMARY:Local New Year's Reception Ghent
DESCRIPTION:Location Ship & Sip\, Handelsdokkaai 18\, 9000 Ghent Time 19h -
  24h Entry Free:  everyone is welcome In 2025\, Volt East & West Flanders g
 rew into a flourishing\, active movement. To kick off the next year just as
  successfully\, we are organising a New Year’s reception in Ghent. We are
  pleased to invite you on 2 January 2025. Everyone is welcome: members\, fr
 iends\, and supporters. Please note\, this is the New Year’s reception fo
 r the local Volt Ghent group. There is also the  national New Year’s rece
 p
LOCATION:Ship & Sip\, Handelsdokkaai 18\, 9000 Gent
URL:https://voltbelgium.org/events/local-new-years-reception-ghent-2026
END:VEVENT
END:VCALENDAR
