BEGIN:VCALENDAR
VERSION:2.0
PRODID:-//Volt Europa//Events//EN
CALSCALE:GREGORIAN
METHOD:PUBLISH
BEGIN:VEVENT
UID:leuven-debate-night-how-women-change-politics-nl-1741806000@voltbelgium
 .org
DTSTAMP:20260423T231013Z
DTSTART;TZID=Europe/Amsterdam:20250312T200000
DTEND;TZID=Europe/Amsterdam:20250312T220000
SUMMARY:Leuven: Debate Night - "How Women Change Politics" (NL)
DESCRIPTION:Debate Night - "How Women Change Politics" On  March 12th \, fr
 om  8:00 PM to 10:00 PM \, we are hosting a debate evening about the role o
 f women in politics. Come and listen to inspiring speakers who will share t
 heir experiences and discuss the impact women have on the political landsca
 pe. Speakers : Tracey D'Afters  (Volt\, City Council Tervuren) An van Goey 
  (Volt\, former Co-Secretary General of Volt Belgium) Lalynn Wadera  (Vooru
 it\, Schepen in Leuven) Eva Plateau  (Groen\, Vlaams parlementslid) 
LOCATION:Hostel de Blauwput\, Grote zaal (Martelarenlaan 11A\, 3010 Kessel 
 Lo)
URL:https://voltbelgium.org/events/leuven-debate-night-how-women-change-pol
 itics-nl
END:VEVENT
END:VCALENDAR
