BEGIN:VCALENDAR
VERSION:2.0
PRODID:-//Volt Europa//Events//EN
CALSCALE:GREGORIAN
METHOD:PUBLISH
BEGIN:VEVENT
UID:in-gesprek-met-dominique-willaert-1716485400@voltbelgium.org
DTSTAMP:20260423T110406Z
DTSTART;TZID=Europe/Amsterdam:20240523T193000
DTEND;TZID=Europe/Amsterdam:20240523T213000
SUMMARY:In gesprek met Dominique Willaert
DESCRIPTION:Neem deel aan een boeiende gespreksavond waar Dominique Willaer
 t\, auteur van "Niet alles maar veel begint bij luisteren"\, en Sophie in '
 t Veld\, Europees Parlementslid\, met elkaar in gesprek gaan over de impact
  van Europese beleidsvorming op lokale politiek\, specifiek gericht op de D
 enderstreek. Ontdek waar het misloopt\, wat beter kan en wat reeds goed fun
 ctioneert. Samen zullen ze de complexe relatie tussen lokale uitdagingen en
  Europese strategieën verkennen en bespreken hoe Europese initiatiev
LOCATION:Zaal Toreken\, Jules De Buckstraat 1\, 9280 Lebbeke
URL:https://voltbelgium.org/events/in-gesprek-met-dominique-willaert
END:VEVENT
END:VCALENDAR
