BEGIN:VCALENDAR
VERSION:2.0
PRODID:-//Volt Europa//Events//EN
CALSCALE:GREGORIAN
METHOD:PUBLISH
BEGIN:VEVENT
UID:general-assembly-february-2025-1739003400@voltbelgium.org
DTSTAMP:20260423T161656Z
DTSTART;TZID=Europe/Amsterdam:20250208T093000
DTEND;TZID=Europe/Amsterdam:20250208T163000
SUMMARY:General Assembly February 2025
DESCRIPTION:Practicalities Date: 8 February 2025\, 09.30 - 16.30 + afterpar
 ty drinks Location: VUB - Vrije Universiteit Brussel Building D\, 1050 Else
 ne\, België (Room: D.0.07 - Level: -1) Lunch will be offered (variety of v
 egan\, vegetarian and other sandwiches) Tea\, coffee\, water is available. 
 We recommend you to bring your own mug and a refillable bottle The General 
 Assembly will be chaired by Volt members Xander Rzepka & Anouschka Defraeye
  Map of the VUB\, with parking indication and direction from the Etter
LOCATION:VUB - Vrije Universiteit Brussel Building D\, 1050 Elsene\, Belgiu
 m (Room: D.0.07)
URL:https://voltbelgium.org/events/general-assembly-february-2025
END:VEVENT
END:VCALENDAR
