BEGIN:VCALENDAR
VERSION:2.0
PRODID:-//Volt Europa//Events//EN
CALSCALE:GREGORIAN
METHOD:PUBLISH
BEGIN:VEVENT
UID:extraordinary-general-assembly-ega-of-volt-belgium-1710091800@voltbelgi
 um.org
DTSTAMP:20260423T194841Z
DTSTART;TZID=Europe/Amsterdam:20240310T183000
DTEND;TZID=Europe/Amsterdam:20240310T193000
SUMMARY:Extraordinary General Assembly (EGA) of Volt Belgium
DESCRIPTION:The Electoral Board and the Board of Administrators of Volt Bel
 gium are excited to invite you to the Extraordinary General Assembly (EGA) 
 of Volt Belgium on Sunday 10 March 2024 from 18:30 to 19:30 CET\, which wil
 l take place online. Please inquire with  the Volt Belgium administration  
 for the voting token and meeting link. Context: The Board of Administrators
  suggested several amendments to the statutes\, for which the members need 
 to vote before they can be deposited at the Commercial Tribunal.
LOCATION:Online
URL:https://voltbelgium.org/events/extraordinary-general-assembly-ega-of-vo
 lt-belgium
END:VEVENT
END:VCALENDAR
