BEGIN:VCALENDAR
VERSION:2.0
PRODID:-//Volt Europa//Events//EN
CALSCALE:GREGORIAN
METHOD:PUBLISH
BEGIN:VEVENT
UID:europe-day-schengen-march-en-1715245200@voltbelgium.org
DTSTAMP:20260423T134146Z
DTSTART;TZID=Europe/Amsterdam:20240509T110000
DTEND;TZID=Europe/Amsterdam:20240509T230000
SUMMARY:Europe Day - Schengen March
DESCRIPTION:In 2019\, different sections of Volt met for a cross-border mar
 ch at the triangle border between France\, Germany and Luxembourg. 5 years 
 later\, we are recreating this successful event to show the pan-European na
 ture of our political movement. This event will take place on 9 May\, when 
 the European Union celebrates Europe Day to commemorate the Schuman declara
 tion\, now considered as the founding act of the  EU. Programme Thursday\, 
 9 May 2024 10.00 Set up the Volt pavilion at the European Museum in 
LOCATION:Rue Robert Goebbels\, 5444 Schengen\, Luxembourg
URL:https://voltbelgium.org/events/europe-day-schengen-march-en
END:VEVENT
END:VCALENDAR
