BEGIN:VCALENDAR
VERSION:2.0
PRODID:-//Volt Europa//Events//EN
CALSCALE:GREGORIAN
METHOD:PUBLISH
BEGIN:VEVENT
UID:eu-debate-with-damian-boeselager-1709578800@voltbelgium.org
DTSTAMP:20260423T135153Z
DTSTART;TZID=Europe/Amsterdam:20240304T200000
DTEND;TZID=Europe/Amsterdam:20240304T213000
SUMMARY:'Europe Talk: The election\, the ultimate test?' with Damian Boesel
 ager
DESCRIPTION:Get your Tickets now:  https://www.bozar.be/nl/kalender/europe-
 talk-de-verkiezingen-de-ultieme-test Monday 4 March\, 20.00 - 21.30 Locatio
 n: Bozar\, Henry Le Boeufzaal\, Ravensteinstraat 23 1000 BRUSSEL Will the E
 uropean elections of 4-9 June 2024 be a test for the European institutions?
  These five-yearly elections will see 720 seats in the European Parliament 
 allocated to help guide EU decision-making. They will be crucial elections\
 , after the huge legislative output of the current Commission\, aft
LOCATION:Bozar\, Henry Le Boeufzaal\, Ravensteinstraat 23 1000 BRUSSEL
URL:https://voltbelgium.org/events/eu-debate-with-damian-boeselager
END:VEVENT
END:VCALENDAR
