BEGIN:VCALENDAR
VERSION:2.0
PRODID:-//Volt Europa//Events//EN
CALSCALE:GREGORIAN
METHOD:PUBLISH
BEGIN:VEVENT
UID:etterbeekcafe-1728496800@voltbelgium.org
DTSTAMP:20260423T194737Z
DTSTART;TZID=Europe/Amsterdam:20241009T200000
DTEND;TZID=Europe/Amsterdam:20241009T220000
SUMMARY:Café-débat avec vos candidats Volt à Etterbeek
DESCRIPTION:Café Debat with the candidates of Volt Europa Etterbeek and in
 vitees in Sint-Pieterssteenweg 49\, 1040 Etterbeek. Join us there from 8 pm
  on 9 October! https://voltbelgium.org/etterbeek
LOCATION:Sint-Pieterssteenweg 49\, 1040 Etterbeek
URL:https://voltbelgium.org/events/etterbeekcafe
END:VEVENT
END:VCALENDAR
