BEGIN:VCALENDAR
VERSION:2.0
PRODID:-//Volt Europa//Events//EN
CALSCALE:GREGORIAN
METHOD:PUBLISH
BEGIN:VEVENT
UID:drink-talk-integration-in-europe-and-tervuren-1727976600@voltbelgium.or
 g
DTSTAMP:20260423T231521Z
DTSTART;TZID=Europe/Amsterdam:20241003T193000
DTEND;TZID=Europe/Amsterdam:20241003T230000
SUMMARY:Drink/Talk: Integration in Europe and Tervuren...
DESCRIPTION:Organisers: Tervuren Unie and Volt Tervuren. Keynote/Panel: MEP
  Anna Strolenberg will also hold a brief keynote speech. Prior to being ele
 cted to the European Parliament in July 2024\, Anna also worked for the Dut
 ch Refugee Network. Panel: Dr. Mamy Rafamantanana (Tervuren) reflects on Te
 rvuren as a cultural crossroads between Belgium\, France and Madagascar Pan
 el: Claudia Zapata (Tervuren) Global mobility/expats Panel: Tracey D'Afters
  (Tervuren) Communications Strategist Moderator: Dafydd ab Iago 
LOCATION:Zaal De Berk\, Zevenster\, Tervuren
URL:https://voltbelgium.org/events/drink-talk-integration-in-europe-and-ter
 vuren
END:VEVENT
END:VCALENDAR
