BEGIN:VCALENDAR
VERSION:2.0
PRODID:-//Volt Europa//Events//EN
CALSCALE:GREGORIAN
METHOD:PUBLISH
BEGIN:VEVENT
UID:digital-democracy-in-action-1714298400@voltbelgium.org
DTSTAMP:20260423T104939Z
DTSTART;TZID=Europe/Amsterdam:20240428T120000
DTEND;TZID=Europe/Amsterdam:20240428T171500
SUMMARY:Digital Democracy in Action
DESCRIPTION:As the European\, federal and regional elections approach\, you
 r voice in shaping the digital landscape is more critical than ever at the 
 Volt Discussions Series: Digital Democracy in Action event upcoming Sunday:
  - Let's tackle misinformation and online hate speech\, while safeguarding 
 freedom of expression and privacy. - Explore how we can lead globally with 
 digital technologies\, such as AI\, chip technology\, and quantum computing
 \, while improving cybersecurity and responsible tech use. - Contribu
LOCATION:Mundo Madou\, Avenue des Arts 7-8\, 1210 Brussels
URL:https://voltbelgium.org/events/digital-democracy-in-action
END:VEVENT
END:VCALENDAR
