BEGIN:VCALENDAR
VERSION:2.0
PRODID:-//Volt Europa//Events//EN
CALSCALE:GREGORIAN
METHOD:PUBLISH
BEGIN:VEVENT
UID:demonstration-3-years-of-war-in-ukraine-1740315600@voltbelgium.org
DTSTAMP:20260423T132557Z
DTSTART;TZID=Europe/Amsterdam:20250223T140000
DTEND;TZID=Europe/Amsterdam:20250223T190000
SUMMARY:Demonstration: 3 years of war in Ukraine
DESCRIPTION:Volt Belgium is participating in a demonstration to mark three 
 years of the full-scale war in Ukraine.  Our party wants to show its unequi
 vocal support for Ukraine at this decisive moment. The manifestation\, orga
 nised by the NGO Promote Ukraine\, will take place at Place de l'Albertine\
 , Brussels on 23/02 at 14.00.
LOCATION:Place de l'Albertine\, Brussels
URL:https://voltbelgium.org/events/demonstration-3-years-of-war-in-ukraine
END:VEVENT
END:VCALENDAR
