BEGIN:VCALENDAR
VERSION:2.0
PRODID:-//Volt Europa//Events//EN
CALSCALE:GREGORIAN
METHOD:PUBLISH
BEGIN:VEVENT
UID:cafe-politique-lln-rethinking-eu-defense-fr-1710871200@voltbelgium.org
DTSTAMP:20260423T110541Z
DTSTART;TZID=Europe/Amsterdam:20240319T190000
DTEND;TZID=Europe/Amsterdam:20240319T220000
SUMMARY:CafÃ© Politique LLN - Rethinking EU Defense (FR)
DESCRIPTION:(English below) Le samedi 10 fÃ©vrier\, l'ancien prÃ©sident amÃ
 ©ricain Donald Trump a dÃ©clarÃ© que\, sâ€™il se fait rÃ©Ã©lire\, les Ã‰tat
 s-Unis ne soutiendraient plus les pays membres de l'OTAN qui ne respecterai
 ent pas les objectifs de dÃ©penses de l'Alliance\, allant mÃªme jusqu'Ã  "e
 ncourager" la Russie Ã  les attaquer. / Dans le contexte actuel de guerre e
 n Ukraine et de menace russe aux frontiÃ¨res de l'Europe\, cette dÃ©clarati
 on soulÃ¨ve le besoin pressant pour les Ã‰tats membres de l'UE de rÃ©examin
 er leur sÃ©c
LOCATION:Brasserie Le Grand Place\, Louvain-la-Neuve
URL:https://voltbelgium.org/events/cafe-politique-lln-rethinking-eu-defense
 -fr
END:VEVENT
END:VCALENDAR
