BEGIN:VCALENDAR
VERSION:2.0
PRODID:-//Volt Europa//Events//EN
CALSCALE:GREGORIAN
METHOD:PUBLISH
BEGIN:VEVENT
UID:cafe-gent-1711045800@voltbelgium.org
DTSTAMP:20260423T104648Z
DTSTART;TZID=Europe/Amsterdam:20240321T193000
DTEND;TZID=Europe/Amsterdam:20240321T210000
SUMMARY:Café Gent
DESCRIPTION:Volgende week donderdag (21 maart) komen we nog eens samen. Sam
 en gezellig een drinken\, een babbeltje slaan en elkaar eens leren kennen. 
 We spreken af in café Elton aan het Sint Pieters station om 19u30! Laat ie
 ts weten als je geïnteresseerd bent om te komen\, dan kunnen we eventueel 
 wat tafels reserveren \;) Tot volgende week! Contact person: thomas.vyvey@v
 olteuropa.org
LOCATION:Eltòn\, Kon. Maria Hendrikaplein 36\, 9000 Gent\, Belgium
URL:https://voltbelgium.org/events/cafe-gent
END:VEVENT
END:VCALENDAR
