BEGIN:VCALENDAR
VERSION:2.0
PRODID:-//Volt Europa//Events//EN
CALSCALE:GREGORIAN
METHOD:PUBLISH
BEGIN:VEVENT
UID:4-5-may-brussels-1714773600@voltbelgium.org
DTSTAMP:20260423T104134Z
DTSTART;TZID=Europe/Amsterdam:20240504T000000
DTEND;TZID=Europe/Amsterdam:20240505T235900
SUMMARY:Volt in the Streets 3\, 4 & 5 May (Brussels)
DESCRIPTION:Find here the program for this weekend: May 3\, 18h30-20h\, Fly
 ering at Place des Chasseurs Ardennais (contact person  Marie Le Mouel  and
   Olivia ten Horn ) May 3\, after flyering\, Kriek Frites Party 2024 on Pla
 ce Jourdan (contact person  Carlo Giudice ) ~̶M̶a̶y̶ 4̶\, 1̶0̶h̶-̶
 1̶4̶h̶. F̶l̶y̶e̶r̶i̶n̶g̶ a̶t̶ I̶r̶i̶s̶ F̶e̶s̶t̶i̶v̶a
 ̶l̶~̶ (cancelled\, too little interest) May 4\, 14h-18h. Flyering at Iri
 s Festival (meeting point tbc\, contact person   Carlo Giudice ) May 5\, 1
 1h-15h.Manning Stand/Flyering at
LOCATION:Brussels
URL:https://voltbelgium.org/events/4-5-may-brussels
END:VEVENT
END:VCALENDAR
