BEGIN:VCALENDAR
VERSION:2.0
PRODID:-//Volt Europa//Events//EN
CALSCALE:GREGORIAN
METHOD:PUBLISH
BEGIN:VEVENT
UID:20240521-meetgreetbxl-en-1716309000@voltbelgium.org
DTSTAMP:20260423T134202Z
DTSTART;TZID=Europe/Amsterdam:20240521T183000
DTEND;TZID=Europe/Amsterdam:20240521T220000
SUMMARY:Meet & Greet Brussels
DESCRIPTION:It is time for another Meet & Greet in the heart of Brussels! U
 pstairs at Café Merlo in the cozy Dansaert area\, you will find a warm hot
  spot. Share a drink and talk politics with some of our candidates\, engage
 d Volters and pitch your newest democratic innovative ideas to our candidat
 es. We will see you on Tuesday evening\, and bring your friends\, colleague
 s and family. Everyone is welcome!
LOCATION:Café Merlo\, Quai aux Briques 80\, 1000 Bruxelles
URL:https://voltbelgium.org/events/20240521-meetgreetbxl-en
END:VEVENT
END:VCALENDAR
